BEGIN:VCALENDAR
VERSION:2.0
PRODID:-//Bistro Felix - ECPv4.8.1//NONSGML v1.0//EN
CALSCALE:GREGORIAN
METHOD:PUBLISH
X-WR-CALNAME:Bistro Felix
X-ORIGINAL-URL:https://bistrofelix.com.au
X-WR-CALDESC:Events for Bistro Felix
BEGIN:VEVENT
DTSTART;TZID=UTC+8:20190108T113000
DTEND;TZID=UTC+8:20190306T213000
DTSTAMP:20190226T082518
CREATED:20181121T070617Z
LAST-MODIFIED:20190117T055335Z
UID:318-1546947000-1551907800@bistrofelix.com.au
SUMMARY:Summer Seafood Menu
DESCRIPTION:FEATURING AUSTRALIAN SEAFOOD & WINE \nSUMMER SEAFOOD MENU \nJoin us for lunch or dinner to enjoy our fresh & flavoursome Summer Seafood Menu &  Australian Wines – make yours a Summer to remember. \nOur team of talented chefs have created the perfect Summer Seafood Menu for you to enjoy & our friendly staff will be available to assist you in choosing that perfect wine from our extensive wine cellar to accompany your menu selection. \n  \nDownload Our Seafood Menu \nMake a Booking \n
URL:https://bistrofelix.com.au/event/summer-seafood-menu/
LOCATION:Bistro Felix\, 118-120 Rokeby Rd\, Subiaco\, Western Australia\, 6008\, Australia
ATTACH;FMTTYPE=image/jpeg:https://bistrofelix.com.au/wp-content/uploads/SUMMER-SEAFOOD.jpg
END:VEVENT
BEGIN:VEVENT
DTSTART;TZID=UTC+8:20190301T113000
DTEND;TZID=UTC+8:20190531T213000
DTSTAMP:20190226T082518
CREATED:20181122T110912Z
LAST-MODIFIED:20181123T021932Z
UID:360-1551439800-1559338200@bistrofelix.com.au
SUMMARY:Healthy Menu
DESCRIPTION:HEALTHY MENU designed by our HOUSE NUTRISIONIST  \nFor the month of March\,  April & May\, Bistro Felix have combined their French-style bold and delicate flavours with our house nutritionist  to create a nutritious\, tasty French bistro dining experience… \n  \nA healthy-style menu designed by Bistro Felix’s Chef and our Nutritionist \, combining delicious wholefoods options while remaining true to the French bistro style of Bistro Felix \n  \n
URL:https://bistrofelix.com.au/event/healthy-menu/
LOCATION:Bistro Felix\, 118-120 Rokeby Rd\, Subiaco\, Western Australia\, 6008\, Australia
ATTACH;FMTTYPE=image/jpeg:https://bistrofelix.com.au/wp-content/uploads/HEALTHY-MENU-002.jpg
END:VEVENT
BEGIN:VEVENT
DTSTART;TZID=UTC+8:20190602T113000
DTEND;TZID=UTC+8:20190831T213000
DTSTAMP:20190226T082518
CREATED:20181122T040435Z
LAST-MODIFIED:20181124T102354Z
UID:330-1559475000-1567287000@bistrofelix.com.au
SUMMARY:Winter Warmers
DESCRIPTION:Winter is almost here and to celebrate we’ve put together a few specials that will be sure to get you excited for the cold! \nTake our signature dish\, the Beef Bourguignon for the classic red wine stew. It’s a great make-ahead braise to feed family and friends. \n\n
URL:https://bistrofelix.com.au/event/winter-warmers/
LOCATION:Bistro Felix\, 118-120 Rokeby Rd\, Subiaco\, Western Australia\, 6008\, Australia
ATTACH;FMTTYPE=image/jpeg:https://bistrofelix.com.au/wp-content/uploads/winter_warmers_custom-002.jpg
END:VEVENT
BEGIN:VEVENT
DTSTART;TZID=UTC+8:20190706T110000
DTEND;TZID=UTC+8:20190706T110000
DTSTAMP:20190226T082518
CREATED:20181122T035232Z
LAST-MODIFIED:20190215T010856Z
UID:324-1562410800-1562410800@bistrofelix.com.au
SUMMARY:Tour De France 2019
DESCRIPTION:Join us at Bistro Felix as we watch live on screen the 106th Tour de France that will be running from 6th July to 28th July 2018 – PLUS we’ll be showing replays of each stage of the race if you can’t make the live screenings! \nTo run in parallel with the 21 stages of “le tour” we’ll be highlighting some special wines throughout each stage of the race. \nWe will be offering some special French Wines by the glass so that you can pair our delicious drops with our amazing French cheeses!\n\nPLUS you’ll also receive a Complimentary Amuse Bouche when you come to dine! \nIn addition to all of the above\, we have also prepared a special menu crafted in honour of “le tour” for you to enjoy… \n  \nMake a Booking \n
URL:https://bistrofelix.com.au/event/tour-de-france-2019/
LOCATION:Bistro Felix\, 118-120 Rokeby Rd\, Subiaco\, Western Australia\, 6008\, Australia
ATTACH;FMTTYPE=image/jpeg:https://bistrofelix.com.au/wp-content/uploads/JULY-TOU-DE-FRANCE-002.jpg
END:VEVENT
END:VCALENDAR